BEGIN:VCALENDAR
VERSION:2.0
PRODID:-//wp-events-plugin.com//7.2.3.1//EN
TZID:Europe/Berlin
X-WR-TIMEZONE:Europe/Berlin
BEGIN:VEVENT
UID:47@buergernetz-muenster.de
DTSTART;TZID=Europe/Berlin:20260225T170000
DTEND;TZID=Europe/Berlin:20260225T180000
DTSTAMP:20251209T101830Z
URL:https://buergernetz-muenster.de/Veranstaltung/opendataeinfacherklaert/
SUMMARY:Vortrag "Open Data einfach erklärt – und angewendet!"
DESCRIPTION:Was steckt eigentlich hinter dem Begriff Open Data (offene Date
 n)? Und welche praktischen Anwendungen und Datenquellen für den Alltag gi
 bt es bereits?
CATEGORIES:Vortrag
LOCATION:Stadtbücherei\, Alter Steinweg 11\, Münster\, Nordrhein-Westfale
 n\, 48143 \, Deutschland
X-APPLE-STRUCTURED-LOCATION;VALUE=URI;X-ADDRESS=Alter Steinweg 11\, Münste
 r\, Nordrhein-Westfalen\, 48143 \, Deutschland;X-APPLE-RADIUS=100;X-TITLE=
 Stadtbücherei:geo:0,0
END:VEVENT
BEGIN:VTIMEZONE
TZID:Europe/Berlin
X-LIC-LOCATION:Europe/Berlin
BEGIN:STANDARD
DTSTART:20251026T020000
TZOFFSETFROM:+0200
TZOFFSETTO:+0100
TZNAME:CET
END:STANDARD
END:VTIMEZONE
END:VCALENDAR