BEGIN:VCALENDAR
VERSION:2.0
PRODID:-//wp-events-plugin.com//7.2.3.1//EN
TZID:Europe/Berlin
X-WR-TIMEZONE:Europe/Berlin
BEGIN:VEVENT
UID:12@buergernetz-muenster.de
DTSTART;TZID=Europe/Berlin:20250910T170000
DTEND;TZID=Europe/Berlin:20250910T180000
DTSTAMP:20250707T095550Z
URL:https://buergernetz-muenster.de/Veranstaltung/hass-rede_im_netz/
SUMMARY:Vortrag "Hass-Rede im Netz"
DESCRIPTION:Die Möglichkeiten\, aktuelle politische und gesellschaftliche 
 Themen mitzugestalten\, haben sich durch die Digitalisierung vervielfälti
 gt. Vor allem Sozialen Netzwerke sind immer stärker Orte der Meinungsbild
 ung. Große Reichweite und schnelle Verbreitung einzelner Äußerungen\, A
 nonymität und dadurch begünstigte Enthemmung führen aber auch dazu\, da
 ss sich Hass und Diskriminierung breit machen können. Prof. Dr. Nina Spri
 nger vom Institut für Kommunikationswissenschaft der Uni Münster zeigt\,
  welche Folgen ausgrenzende Kommentare\, Tweets und Posts haben und gibt T
 ipps\, wie man dieser kommunikativen Gewalt in unserem Medienalltag begegn
 en kann.\n\nDer Vortrag ist Teil der Veranstaltungsreihe zu digitalen Them
 en in der Stadtbücherei\, die der Verein Bürgernetz organisiert.
CATEGORIES:Vortrag
LOCATION:Stadtbücherei\, Alter Steinweg 11\, Münster\, Nordrhein-Westfale
 n\, 48143 \, Deutschland
X-APPLE-STRUCTURED-LOCATION;VALUE=URI;X-ADDRESS=Alter Steinweg 11\, Münste
 r\, Nordrhein-Westfalen\, 48143 \, Deutschland;X-APPLE-RADIUS=100;X-TITLE=
 Stadtbücherei:geo:0,0
END:VEVENT
BEGIN:VTIMEZONE
TZID:Europe/Berlin
X-LIC-LOCATION:Europe/Berlin
BEGIN:DAYLIGHT
DTSTART:20250330T030000
TZOFFSETFROM:+0100
TZOFFSETTO:+0200
TZNAME:CEST
END:DAYLIGHT
END:VTIMEZONE
END:VCALENDAR